Workbook

Sheet ข้อมูลทั่วไป
A1: แบบฟอร์มรายงานข้อมูลปริมาณงาน (ศูนย์ส่งเสริมการเรียนรู้ระดับอำเภอ/เขต)
B3: ปีงบประมาณ | C3: 2568
A5: 1. ชื่อสถานศึกษา
A6: 2. สถานที่ตั้ง | B6: ที่อยู่
B7: อำเภอ
B8: จังหวัด | J8: ศูนย์ส่งเสริมการเรียนรู้ระดับอำเภอ/เขต | K8: พื้นที่ทั่วไป
B9: ลักษณะที่ตั้ง | C9: พื้นที่ทั่วไป | H9: คลิ๊กเลือกลักษณะที่ตั้ง | J9: ศูนย์หรือสถาบันการเรียนรู้เฉพาะด้านหรือเฉพาะกิจการ | K9: พื้นที่พิเศษ/ชายแดน
A10: 3. ประเภทสถานศึกษา | C10: ศูนย์ส่งเสริมการเรียนรู้ระดับอำเภอ | H10: คลิ๊กเลือกประเภทสถานศึกษา | J10: สถานศึกษาขึ้นตรง | K10: พื้นที่สูง/ภูเขา
K11: พื้นที่เกาะ
A12: 4. จำนวนอัตรากำลัง | K12: พื้นที่ห่างไกลทุรกันดาร
A13: ประเภทอัตรา | C13: มีจริง
A14: 4.1 ผอ.สถานศึกษา
A15: 4.2 รอง ผอ.สถานศึกษา
A16: 4.3 ครูผู้สอน (รวม) | C16: =SUM(C18:F28) -> 0
A17: กลุ่มวิชา/สาขาวิชาเอก | C17: ข้าราชการ | D17: พนักงานราชการ | E17: ลูกจ้างประจำ | F17: จ้างเหมาบริการ
A18: - กลุ่มวิชาภาษาไทย
A19: - กลุ่มวิชาภาษาอังกฤษ
A20: - กลุ่มวิชาคณิตศาสตร์
A21: - กลุ่มวิชาวิทยาศาสตร์
A22: - กลุ่มวิชาการประกอบอาชีพ
A23: - กลุ่มวิชาสุขศึกษาและพลศึกษา
A24: - กลุ่มวิชาศิลปศึกษา
A25: - กลุ่มวิชาการพัฒนาสังคม
A26: - กลุ่มวิชาคอมพิวเตอร์และเทคโนโลยี
A27: - กลุ่มวิชาการบริหารและจัดการเรียนรู้
A28: - กลุ่มวิชาการศึกษานอกระบบและการศึกษาตามอัธยาศัย
A29: รวม | C29: =SUM(C18:C28) -> 0 | D29: =SUM(D18:D28) -> 0 | E29: =SUM(E18:E28) -> 0 | F29: =SUM(F18:F28) -> 0
A30: 4.4 บุคลากรสนับสนุนการสอน (บคศ.38ค.(2)และอื่นๆ) | C30: =SUM(C32:F40) -> 0
C31: ข้าราชการ | D31: พนักงานราชการ | E31: ลูกจ้างประจำ | F31: จ้างเหมาบริการ
A32: นักจัดการงานทั่วไป/เจ้าพนักงานธุรการ/เจ้าหน้าที่ธุรการ
A33: นักวิชาการศึกษา/ผู้ช่วยนักวิชาการศึกษา
A34: บรรณารักษ์/เจ้าพนักงานห้องสมุด
A35: นักวิชาการเงินและบัญชี/เจ้าพนักงานการเงินฯ/เจ้าหน้าที่การเงินฯ
A36: นักวิชาการพัสดุ/เจ้าพนักงานพัสดุ/เจ้าหน้าที่พัสดุ
A37: บันทึกข้อมูล/พนักงานพิมพ์
A38: พนักงานบริการเอกสารทั่วไป
A39: เจ้าหน้าที่รักษาความปลอดภัย
A40: ตำแหน่งอื่นๆ
B41: รวม | C41: =SUM(C32:C40) -> 0 | D41: =SUM(D32:D40) -> 0 | E41: =SUM(E32:E40) -> 0 | F41: =SUM(F32:F40) -> 0
A42: หมายเหตุ | G42: กลุ่มอัตรากำลัง
...

Sheet กลุ่มวิชาครู
A1: รายละเอียดกลุ่มวิชา หรือทาง หรือสาขาวิชาเอก
A2: สำหรับการคัดเลือกบุคคลเพื่อบรรจุและแต่งตั้งเข้ารับราชการเป็นข้าราชการครูและบุคลากรทางการศึกษา
A3: ตำแหน่งครูผู้ช่วย
A5: ที่ | B5: กลุ่มวิชา หรือทาง หรือสาขาวิชาเอก
A6: 1 | B6: กลุ่มวิชาภาษาไทย
C7: คุณวุฒิปริญญาตรี ในสาขาวิชาเอก
C8: 1) | D8: การศึกษา (ภาษาไทย)
C9: 2) | D9: การสอนภาษาไทย
C10: 3) | D10: การสอนภาษาไทยระดับมัธยมศึกษา
C11: 4) | D11: แขนงวิชาหลักสูตรและการสอนวิชาเอกภาษาไทย
C12: 5) | D12: ไทยคดีศึกษา
C13: 6) | D13: ไทยศึกษา
C14: 7) | D14: โปรแกรมวิชาภาษาไทย
C15: 8) | D15: ภาษาตะวันออก
C16: 9) | D16: ภาษาไทย
C17: 10) | D17: ภาษาไทย - ประวัติศาสตร์
C18: 11) | D18: ภาษาไทยเพื่อการศึกษา
C19: 12) | D19: ภาษาไทยเพื่อการสื่อสารสำหรับชาวต่างประเทศ
... C31: 24) | D31: สาขาวิชาภาษาไทย - โปรแกรมวิชาภาษาไทย
A32: 2 | B32: กลุ่มวิชาภาษาอังกฤษ
C33: คุณวุฒิปริญญาตรี ในสาขาวิชาเอก
C34: 1) | D34: การสอนภาษาอังกฤษ
C35: 2) | D35: การสอนภาษาอังกฤษในฐานะภาษาต่างประเทศ
C36: 3) | D36: การสอนภาษาอังกฤษเป็นภาษาต่างประเทศ
C37: 4) | D37: การสอนวิชาภาษาปัจจุบันต่างประเทศ (อังกฤษ)
C38: 5) | D38: ภาษาและวรรณคดีอังกฤษ
C39: 6) | D39: ภาษาอังกฤษ
C40: 7) | D40: ภาษาอังกฤษเฉพาะกิจ
C41: 8) | D41: ภาษาอังกฤษธุรกิจ
C42: 9) | D42: ภาษาอังกฤษเพื่อการสื่อสาร
C43: 10) | D43: ภาษาอังกฤษเพื่อการสื่อสารสากล
C44: 11) | D44: ภาษาอังกฤษและการสื่อสาร
C45: 12) | D45: ภาษาอังกฤษสื่อสารธุรกิจ
... C47: 14) | D47: อังกฤษธุรกิจ
A48: 3 | B48: กลุ่มวิชาคณิตศาสตร์
C49: คุณวุฒิปริญญาตรี ในสาขาวิชาเอก
C50: 1) | D50: การศึกษา (คณิตศาสตร์)
C51: 2) | D51: การศึกษาคณิตศาสตร์
C52: 3) | D52: การสอนคณิตศาสตร์
C53: 4) | D53: การสอนคณิตศาสตร์ระดับมัธยมศึกษา
...

Sheet ลักษณะที่ตั้ง
A1: คำอธิบายลักษณะที่ตั้งของสถานศึกษา
A2: ลักษณะที่ตั้ง | B2: ความหมาย
A3: 1. พื้นที่ปกติ | B3: สถานศึกษาที่ตั้งในพื้นที่ปกติทั่วไป
A4: 2. พื้นที่พิเศษ | B4: สถานศึกษา สังกัดกระทรวงศึกษาธิการที่ได้รับการประกาศเป็นสำนักงานในพื้นที่พิเศษตามประกาศกระทรวงการคลัง หรือ สถานศึกษาในพื้นที่พิเศษเฉพาะกิจจังหวัดชายแดนภาคใต้ จังหวัดยะลา ปัตตานี นราธิวาส และสงขลา (เฉพาะพื้นที่อำเภอเทพา สะบ้าย้อย นาทวี และจะนะ)
A5: 3. พื้นที่สูง | B5: สถานศึกษาที่ตั้งอยู่ในพื้นที่เนินเขา ภูเขา เทือกเขาที่มีความสูงกว่าระดับน้ำทะเลปานกลาง 500 เมตรขึ้นไป หรือตั้งอยู่ในพื้นที่เนินเขา ภูเขา เทือกเขาสูงกว่าความสูงเฉลี่ยของจังหวัด หรือสถานศึกษาที่ตั้งอยู่ในหุบเขาระหว่างภูเขาที่มีเส้นทางคมนาคมจากศาลากลางจังหวัดถึงที่ตั้งของสถานศึกษา ผ่านเนินเขา ภูเขา เทือกเขาความสูงเฉลี่ยมากกว่าระดับน้ำทะเลปานกลาง 500 เมตรขึ้นไป
A6: 4. พื้นที่เกาะ | B6: สถานศึกษาที่ตั้งอยู่บนพื้นที่ที่มีน้ำล้อมรอบโดยตลอดพื้นที่มีลักษณะตัดขาดตลอดปี และต้องเดินทางสัญจรโดยทางเรือหรือทางอากาศเท่านั้น ไม่สามารถสัญจรโดยทางถนนได้
A7: 5. พื้นที่ห่างไกลทุรกันดาร | B7: สถานศึกษาที่ตั้งอยู่ในพื้นที่ห่างไกลความเจริญและมีความสำคัญด้านความมั่นคงชายแดน

Sheet กลุ่มเป้าหมาย
A1: แบบเก็บข้อมูลภาระงานของสถานศึกษา สังกัดกรมส่งเสริมการเรียนรู้
A3: สถานศึกษา | B3: =ข้อมูลทั่วไป!C5 -> 0
A5: ปีงบประมาณ | B5: ภารกิจ | E5: จำนวนประชากรในพื้นที่รับผิดชอบ (คน) | J5: จำนวนกลุ่มเป้าหมายผู้รับบริการ (คน)
C6: ปฐมวัย (อายุไม่เกิน 6 ป๊) | D6: วัยเรียน (อายุ 7-14 ปี) | E6: วัยแรงงาน (15-59 ปี) | F6: วัยผู้สูงอายุ (60 ปี ขึ้นไป) | G6: รวม | H6: ปฐมวัย (อายุไม่เกิน 6 ป๊) | I6: วัยเรียน (อายุ 7-14 ปี) | J6: วัยแรงงาน (15-59 ปี) | K6: วัยผู้สูงอายุ (60 ปี ขึ้นไป) | L6: รวม
A7: 2566 | B7: 1. การจัดการเรียนรู้เพื่อคุณวุฒิ | G7: =SUM(C7:F7) -> 0 | L7: =SUM(H7:K7) -> 0
B8: 2. การจัดการเรียนรู้เพื่อการพัฒนาตนเอง | G8: =SUM(C8:F8) -> 0 | L8: =SUM(H8:K8) -> 0
B9: 3. การจัดการเรียนรู้ตลอดชีวิต | G9: =SUM(C9:F9) -> 0 | L9: =SUM(H9:K9) -> 0
A10: รวม | C10: =SUM(C7:C9) -> 0 | D10: =SUM(D7:D9) -> 0 | E10: =SUM(E7:E9) -> 0 | F10: =SUM(F7:F9) -> 0 | G10: =SUM(G7:G9) -> 0 | H10: =SUM(H7:H9) -> 0 | I10: =SUM(I7:I9) -> 0 | J10: =SUM(J7:J9) -> 0 | ... L10: =SUM(L7:L9) -> 0
A11: 2567 | B11: 1. การจัดการเรียนรู้เพื่อคุณวุฒิ | G11: =SUM(C11:F11) -> 0 | L11: =SUM(H11:K11) -> 0
B12: 2. การจัดการเรียนรู้เพื่อการพัฒนาตนเอง | G12: =SUM(C12:F12) -> 0 | L12: =SUM(H12:K12) -> 0
B13: 3. การจัดการเรียนรู้ตลอดชีวิต | G13: =SUM(C13:F13) -> 0 | L13: =SUM(H13:K13) -> 0
A14: รวม | C14: =SUM(C11:C13) -> 0 | D14: =SUM(D11:D13) -> 0 | E14: =SUM(E11:E13) -> 0 | F14: =SUM(F11:F13) -> 0 | G14: =SUM(G11:G13) -> 0 | H14: =SUM(H11:H13) -> 0 | I14: =SUM(I11:I13) -> 0 | J14: =SUM(J11:J13) -> 0 | ... L14: =SUM(L11:L13) -> 0
A15: 2568 | B15: 1. การจัดการเรียนรู้เพื่อคุณวุฒิ | G15: =SUM(C15:F15) -> 0 | L15: =SUM(H15:K15) -> 0
B16: 2. การจัดการเรียนรู้เพื่อการพัฒนาตนเอง | G16: =SUM(C16:F16) -> 0 | L16: =SUM(H16:K16) -> 0
B17: 3. การจัดการเรียนรู้ตลอดชีวิต | G17: =SUM(C17:F17) -> 0 | L17: =SUM(H17:K17) -> 0
A18: รวม | C18: =SUM(C15:C17) -> 0 | D18: =SUM(D15:D17) -> 0 | E18: =SUM(E15:E17) -> 0 | F18: =SUM(F15:F17) -> 0 | G18: =SUM(G15:G17) -> 0 | H18: =SUM(H15:H17) -> 0 | I18: =SUM(I15:I17) -> 0 | J18: =SUM(J15:J17) -> 0 | ... L18: =SUM(L15:L17) -> 0
B19: เฉลี่ย | C19: =AVERAGE(C10,C14,C18) -> 0 | D19: =AVERAGE(D10,D14,D18) -> 0 | E19: =AVERAGE(E10,E14,E18) -> 0 | F19: =AVERAGE(F10,F14,F18) -> 0 | G19: =AVERAGE(G10,G14,G18) -> 0 | H19: =AVERAGE(H10,H14,H18) -> 0 | I19: =AVERAGE(I10,I14,I18) -> 0 | J19: =AVERAGE(J10,J14,J18) -> 0 | ... L19: =AVERAGE(L10,L14,L18) -> 0
M20: กลุ่มอัตรากำลัง
A21: หมายเหตุ | B21: 1. กรุณากรอกข้อมูลในช่องเชลล์สีชมพู
B22: 2. ไม่อนุญาตให้แก้ไขสูตร หรือแทรก/ลบคอลัมภ์ ในตารางข้างต้น

Sheet คุณวุฒิ
A1: ตารางเก็บข้อมูลหลักสูตรที่ใช้ในการจัดการเรียนรู้ ของสถานศึกษา
A3: สถานศึกษา | B3: =ข้อมูลทั่วไป!C5 -> 0
A5: ภารกิจ | B5: การจัดการเรียนรู้เพื่อคุณวุฒิตามระดับ
B7: ระดับการศึกษา | C7: ปีงบประมาณ 2566 | F7: ปีงบประมาณ 2567 | I7: ปีงบประมาณ 2568
C8: จำนวนผู้เรียน(คน) | D8: จำนวนกลุ่ม(กลุ่ม) | E8: จำนวนชั่วโมงสอนต่อกลุ่มใน 1 สัปดาห์ (ชม.) | F8: จำนวนผู้เรียน(คน) | G8: จำนวนกลุ่ม(กลุ่ม) | H8: จำนวนชั่วโมงสอนต่อกลุ่มใน 1 สัปดาห์ (ชม.) | I8: จำนวนผู้เรียน(คน) | J8: จำนวนกลุ่ม(กลุ่ม) | K8: จำนวนชั่วโมงสอนต่อกลุ่มใน 1 สัปดาห์ (ชม.)
B9: ปฐมวัย
B10: ประถมศึกษา
B11: มัธยมศึกษาตอนต้น
B12: มัธยมศึกษาตอนปลาย
B13: ประกาศนียบัตรวิชาชีพ (ปวช.)
B14: รวมทั้งสิ้น | C14: =SUM(C9:C13) -> 0 | D14: =SUM(D9:D13) -> 0 | E14: =SUM(E9:E13) -> 0 | F14: =SUM(F9:F13) -> 0 | G14: =SUM(G9:G13) -> 0 | H14: =SUM(H9:H13) -> 0 | I14: =SUM(I9:I13) -> 0 | J14: =SUM(J9:J13) -> 0 | K14: =SUM(K9:K13) -> 0
E15: =(((IF(C9="",0,IF(C9/40<40,1,C9/40))*E9)+(IF(C10="",0,IF(C10/40<40,1,C10/40))*E10)+(IF(C11="",0,IF(C11/40<40,1,C11/40))*E11)+(IF(C12="",0,IF(C12/40<40,1,C12/40))*E12)+(IF(C13="",0,IF(C13/40<40,1,C13/40))*E13))/10) -> 0 | H15: =(((IF(F9="",0,IF(F9/40<40,1,F9/40))*H9)+(IF(F10="",0,IF(F10/40<40,1,F10/40))*H10)+(IF(F11="",0,IF(F11/40<40,1,F11/40))*H11)+(IF(F12="",0,IF(F12/40<40,1,F12/40))*H12)+(IF(F13="",0,IF(F13/40<40,1,F13/40))*H13))/10) -> 0 | K15: =(((IF(I9="",0,IF(I9/40<40,1,I9/40))*K9)+(IF(I10="",0,IF(I10/40<40,1,I10/40))*K10)+(IF(I11="",0,IF(I11/40<40,1,I11/40))*K11)+(IF(I12="",0,IF(I12/40<40,1,I12/40))*K12)+(IF(I13="",0,IF(I13/40<40,1,I13/40))*K13))/10) -> 0 | L15: กลุ่มอัตรากำลัง
A17: หมายเหตุ | B17: 1. กรุณากรอกข้อมูลในช่องเชลล์สีชมพู
B18: 2. สามารถเพิ่มแถวในตารางเพิ่มเติมได้
B19: 3. ไม่อนุญาตให้แก้ไขสูตร หรือแทรก/ลบคอลัมภ์ ในตารางข้างต้น

Sheet เพื่อพัฒนาตนเอง
A1: ตารางเก็บข้อมูลหลักสูตรที่ใช้ในการจัดการเรียนรู้ ของสถานศึกษา
A3: สถานศึกษา | B3: =ข้อมูลทั่วไป!C5 -> 0
A5: ภารกิจ | B5: การจัดการเรียนรู้เพื่อการพัฒนาตนเอง
A7: ลำดับที่ | B7: ชื่อหลักสูตร | C7: ปีงบประมาณ 2566 | F7: ปีงบประมาณ 2567 | I7: ปีงบประมาณ 2568
C8: จำนวนชั่วโมง/หลักสูตร(ชม.) | D8: จำนวนผู้เรียน(คน) | E8: จำนวนกลุ่มที่จัดการเรียน(กลุ่ม) | F8: จำนวนชั่วโมง/หลักสูตร(ชม.) | G8: จำนวนผู้เรียน(คน) | H8: จำนวนกลุ่มที่จัดการเรียน(กลุ่ม) | I8: จำนวนชั่วโมง/หลักสูตร(ชม.) | J8: จำนวนผู้เรียน(คน) | K8: จำนวนกลุ่มที่จัดการเรียน(กลุ่ม)
A9: 1
A10: 2
A11: 3
A12: 4
A13: 5
A14: 6
A15: 7
A16: 8
A17: 9
A18: 10
A19: 11
A20: 12
... A38: 30
A39: รวม | C39: =COUNTIF(C9:C38,"") -> 30 | D39: =SUM(D9:D38) -> 0 | E39: =SUM(E9:E38) -> 0 | F39: =COUNTIF(F9:F38,"") -> 30 | G39: =SUM(G9:G38) -> 0 | H39: =SUM(H9:H38) -> 0 | I39: =COUNTIF(I9:I38,"") -> 30 | J39: =SUM(J9:J38) -> 0 | K39: =SUM(K9:K38) -> 0
E40: =((C9*E9)+(C10*E10)+(C11*E11)+(C12*E12)+(C13*E13)+(C14*E14)+(C15*E15)+(C16*E16)+(C17*E17)+(C18*E18)+(C19*E19)+(C20*E20)+(C21*E21)+(C22*E22)+(C23*E23)+(C24*E24)+(C25*E25)+(C26*E26)+(C27*E27)+(C28*E28)+(C29*E29)+(C30*E30)+(C31*E31)+(C32*E32)+(C33*E33)+(C34*E34)+(C35*E35)+(C36*E36)+(C37*E37)+(C38*E38))/1380 -> 0 | H40: =((F9*H9)+(F10*H10)+(F11*H11)+(F12*H12)+(F13*H13)+(F14*H14)+(F15*H15)+(F16*H16)+(F17*H17)+(F18*H18)+(F19*H19)+(F20*H20)+(F21*H21)+(F22*H22)+(F23*H23)+(F24*H24)+(F25*H25)+(F26*H26)+(F27*H27)+(F28*H28)+(F29*H29)+(F30*H30)+(F31*H31)+(F32*H32)+(F33*H33)+(F34*H34)+(F35*H35)+(F36*H36)+(F37*H37)+(F38*H38))/1380 -> 0 | K40: =((I9*K9)+(I10*K10)+(I11*K11)+(I12*K12)+(I13*K13)+(I14*K14)+(I15*K15)+(I16*K16)+(I17*K17)+(I18*K18)+(I19*K19)+(I20*K20)+(I21*K21)+(I22*K22)+(I23*K23)+(I24*K24)+(I25*K25)+(I26*K26)+(I27*K27)+(I28*K28)+(I29*K29)+(I30*K30)+(I31*K31)+(I32*K32)+(I33*K33)+(I34*K34)+(I35*K35)+(I36*K36)+(I37*K37)+(I38*K38))/1380 -> 0 | L40: กลุ่มอัตรากำลัง
A41: หมายเหตุ | B41: 1. กรุณากรอกข้อมูลในช่องเชลล์สีชมพู
B42: 2. สามารถเพิ่มแถวในตารางเพิ่มเติมได้
B43: 3. ไม่อนุญาตให้แก้ไขสูตร หรือแทรก/ลบคอลัมภ์ ในตารางข้างต้น

Sheet ตลอดชีวิต
A1: ตารางเก็บข้อมูลหลักสูตรที่ใช้ในการจัดการเรียนรู้ ของสถานศึกษา
A3: สถานศึกษา | B3: =ข้อมูลทั่วไป!C5 -> 0
A5: ภารกิจ | B5: การจัดการเรียนรู้ตลอดชีวิต
A7: ลำดับที่ | B7: ชื่อหลักสูตร | C7: ปีงบประมาณ 2566 | F7: ปีงบประมาณ 2567 | I7: ปีงบประมาณ 2568
C8: จำนวนชั่วโมง/หลักสูตร(ชม.) | D8: จำนวนผู้เรียน(คน) | E8: จำนวนกลุ่มที่จัดการเรียน(กลุ่ม) | F8: จำนวนชั่วโมง/หลักสูตร(ชม.) | G8: จำนวนผู้เรียน (คน) | H8: จำนวนกลุ่มที่จัดการเรียน (กลุ่ม) | I8: จำนวนชั่วโมง/หลักสูตร(ชม.) | J8: จำนวนผู้เรียน(คน) | K8: จำนวนกลุ่มที่จัดการเรียน(กลุ่ม)
A9: 1
A10: 2
A11: 3
A12: 4
A13: 5
A14: 6
A15: 7
A16: 8
A17: 9
A18: 10
A19: 11
A20: 12
... A38: 30
A39: รวม | C39: =COUNTIF(C9:C38,"") -> 30 | D39: =SUM(D9:D38) -> 0 | E39: =SUM(E9:E38) -> 0 | F39: =COUNTIF(F9:F38,"") -> 30 | G39: =SUM(G9:G38) -> 0 | H39: =SUM(H9:H38) -> 0 | I39: =COUNTIF(I9:I38,"") -> 30 | J39: =SUM(J9:J38) -> 0 | K39: =SUM(K9:K38) -> 0
E40: =((C9*E9)+(C10*E10)+(C11*E11)+(C12*E12)+(C13*E13)+(C14*E14)+(C15*E15)+(C16*E16)+(C17*E17)+(C18*E18)+(C19*E19)+(C20*E20)+(C21*E21)+(C22*E22)+(C23*E23)+(C24*E24)+(C25*E25)+(C26*E26)+(C27*E27)+(C28*E28)+(C29*E29)+(C30*E30)+(C31*E31)+(C32*E32)+(C33*E33)+(C34*E34)+(C35*E35)+(C36*E36)+(C37*E37)+(C38*E38))/1380 -> 0 | H40: =((F9*H9)+(F10*H10)+(F11*H11)+(F12*H12)+(F13*H13)+(F14*H14)+(F15*H15)+(F16*H16)+(F17*H17)+(F18*H18)+(F19*H19)+(F20*H20)+(F21*H21)+(F22*H22)+(F23*H23)+(F24*H24)+(F25*H25)+(F26*H26)+(F27*H27)+(F28*H28)+(F29*H29)+(F30*H30)+(F31*H31)+(F32*H32)+(F33*H33)+(F34*H34)+(F35*H35)+(F36*H36)+(F37*H37)+(F38*H38))/1380 -> 0 | K40: =((I9*K9)+(I10*K10)+(I11*K11)+(I12*K12)+(I13*K13)+(I14*K14)+(I15*K15)+(I16*K16)+(I17*K17)+(I18*K18)+(I19*K19)+(I20*K20)+(I21*K21)+(I22*K22)+(I23*K23)+(I24*K24)+(I25*K25)+(I26*K26)+(I27*K27)+(I28*K28)+(I29*K29)+(I30*K30)+(I31*K31)+(I32*K32)+(I33*K33)+(I34*K34)+(I35*K35)+(I36*K36)+(I37*K37)+(I38*K38))/1380 -> 0 | L40: กลุ่มอัตรากำลัง
A41: หมายเหตุ | B41: 1. กรุณากรอกข้อมูลในช่องเชลล์สีชมพู
B42: 2. สามารถเพิ่มแถวในตารางเพิ่มเติมได้
B43: 3. ไม่อนุญาตให้แก้ไขสูตร หรือแทรก/ลบคอลัมภ์ ในตารางข้างต้น

Sheet งานสนับสนุน
A1: สถานศึกษา | B1: =ข้อมูลทั่วไป!C5 -> 0
A2: จำนวนอัตรากำลังที่ต้องการ = ปริมาณงาน ( ปี) × เวลามาตรฐานต่องาน1ชิ้น(นาที)
A3: เวลาทำงานมาตรฐานต่อคนต่อปี (นาที)
A4: *** เวลาทำงานมาตรฐานในการปฏิบัติงาน/คน/ปี ในเวลาราชการ = 230 วัน x 6 ชั่วโมง x 60 นาที = 82,800 นาที
A5: ที่ | B5: หน้าที่ความรับผิดชอบ/กิจกรรมหลัก | C5: หน่วยนับ | D5: จำนวน ชี้นงาน รวมทั้งปี | E5: เวลาที่ใช้ในแต่ละกิจกรรม จำแนกตามประเภทเจ้าหน้าที่ (นาที/1 ชิ้นงาน) | J5: หมายเหตุ | K5: เวลาที่ใช้ในแต่ละกิจกรรมทั้งปี (นาที)
E6: นัก จัดการงาน ทั่วไป | F6: นัก วิชาการเงิน และบัญชี | G6: นัก วิชาการ พัสดุ | H6: บรรณารักษ์ | I6: ตำแหน่งอื่นๆ | K6: นัก จัดการงาน ทั่วไป | L6: นัก วิชาการเงิน และบัญชี | M6: นัก วิชาการ พัสดุ | N6: บรรณารักษ์ | O6: =I6 -> ตำแหน่งอื่นๆ
A7: 1 | B7: กลุ่มอำนวยการ
B8: 1) งานธุรการ และสารบรรณ | C8: ฉบับ | K8: =$D8*E8 -> 0 | L8: =$D8*F8 -> 0 | M8: =$D8*G8 -> 0 | N8: =$D8*H8 -> 0 | O8: =$D8*I8 -> 0
B9: 2) งานการเงินและบัญชี | C9: ชุด | K9: =$D9*E9 -> 0 | L9: =$D9*F9 -> 0 | M9: =$D9*G9 -> 0 | N9: =$D9*H9 -> 0 | O9: =$D9*I9 -> 0
B10: 3) งานพัสดุ | C10: ชุด | K10: =$D10*E10 -> 0 | L10: =$D10*F10 -> 0 | M10: =$D10*G10 -> 0 | N10: =$D10*H10 -> 0 | O10: =$D10*I10 -> 0
B11: 4) งานอาคารสถานที่ | C11: ครั้ง | K11: =$D11*E11 -> 0 | L11: =$D11*F11 -> 0 | M11: =$D11*G11 -> 0 | N11: =$D11*H11 -> 0 | O11: =$D11*I11 -> 0
B12: 5) งานงบประมาณและระดมทรัพยากร | C12: ครั้ง | K12: =$D12*E12 -> 0 | L12: =$D12*F12 -> 0 | M12: =$D12*G12 -> 0 | N12: =$D12*H12 -> 0 | O12: =$D12*I12 -> 0
B13: 6) งานแผนงานและโครงการ | C13: ครั้ง | K13: =$D13*E13 -> 0 | L13: =$D13*F13 -> 0 | M13: =$D13*G13 -> 0 | N13: =$D13*H13 -> 0 | O13: =$D13*I13 -> 0
B14: 7) งานข้อมูล สารสนเทศและการรายงาน | C14: ครั้ง | K14: =$D14*E14 -> 0 | L14: =$D14*F14 -> 0 | M14: =$D14*G14 -> 0 | N14: =$D14*H14 -> 0 | O14: =$D14*I14 -> 0
B15: 8) งานบุคลากร | C15: ครั้ง | K15: =$D15*E15 -> 0 | L15: =$D15*F15 -> 0 | M15: =$D15*G15 -> 0 | N15: =$D15*H15 -> 0 | O15: =$D15*I15 -> 0
B16: 9) งานสวัสดิการ | C16: ครั้ง | K16: =$D16*E16 -> 0 | L16: =$D16*F16 -> 0 | M16: =$D16*G16 -> 0 | N16: =$D16*H16 -> 0 | O16: =$D16*I16 -> 0
B17: 10) งานประชาสัมพันธ์ | C17: ครั้ง | K17: =$D17*E17 -> 0 | L17: =$D17*F17 -> 0 | M17: =$D17*G17 -> 0 | N17: =$D17*H17 -> 0 | O17: =$D17*I17 -> 0
B18: 11) งานควบคุมภายใน | C18: ครั้ง | K18: =$D18*E18 -> 0 | L18: =$D18*F18 -> 0 | M18: =$D18*G18 -> 0 | N18: =$D18*H18 -> 0 | O18: =$D18*I18 -> 0
B19: 12) งานนิเทศ ติดตามและประเมินผล | C19: ครั้ง | K19: =$D19*E19 -> 0 | L19: =$D19*F19 -> 0 | M19: =$D19*G19 -> 0 | N19: =$D19*H19 -> 0 | O19: =$D19*I19 -> 0
... B21: 14) งานศูนย์ราชการใสสะอาด | C21: ครั้ง | K21: =$D21*E21 -> 0 | L21: =$D21*F21 -> 0 | M21: =$D21*G21 -> 0 | N21: =$D21*H21 -> 0 | O21: =$D21*I21 -> 0
K22: =$D22*E22 -> 0 | L22: =$D22*F22 -> 0 | M22: =$D22*G22 -> 0 | N22: =$D22*H22 -> 0 | O22: =$D22*I22 -> 0
K23: =$D23*E23 -> 0 | L23: =$D23*F23 -> 0 | M23: =$D23*G23 -> 0 | N23: =$D23*H23 -> 0 | O23: =$D23*I23 -> 0
B24: รวมกลุ่มอำนวยการ | E24: =SUM(E8:E23) -> 0 | F24: =SUM(F8:F23) -> 0 | G24: =SUM(G8:G23) -> 0 | H24: =SUM(H8:H23) -> 0 | I24: =SUM(I8:I23) -> 0 | K24: =SUM(K8:K23) -> 0 | L24: =SUM(L8:L23) -> 0 | M24: =SUM(M8:M23) -> 0 | N24: =SUM(N8:N23) -> 0 | O24: =SUM(O8:O23) -> 0
A26: 2 | B26: กลุ่มจัดการเรียนรู้
B27: 1. งานเรียนรู้เพื่อคุณวุฒิตามระดับ | K27: =$D27*E27 -> 0 | L27: =$D27*F27 -> 0 | M27: =$D27*G27 -> 0 | N27: =$D27*H27 -> 0 | O27: =$D27*I27 -> 0
B28: 1) งานส่งเสริมการรู้หนังสือ | C28: คน | K28: =$D28*E28 -> 0 | L28: =$D28*F28 -> 0 | M28: =$D28*G28 -> 0 | N28: =$D28*H28 -> 0 | O28: =$D28*I28 -> 0
B29: 2) งานส่งเสริมการศึกษาขั้นพื้นฐาน | C29: ครั้ง | K29: =$D29*E29 -> 0 | L29: =$D29*F29 -> 0 | M29: =$D29*G29 -> 0 | N29: =$D29*H29 -> 0 | O29: =$D29*I29 -> 0
B30: 3) งานกิจกรรมพัฒนาผู้เรียน | C30: โครงการ | K30: =$D30*E30 -> 0 | L30: =$D30*F30 -> 0 | M30: =$D30*G30 -> 0 | N30: =$D30*H30 -> 0 | O30: =$D30*I30 -> 0
B31: 4) งานทะเบียน/งานวัดผลประเมินผล | C31: คน | K31: =$D31*E31 -> 0 | L31: =$D31*F31 -> 0 | M31: =$D31*G31 -> 0 | N31: =$D31*H31 -> 0 | O31: =$D31*I31 -> 0
B32: 5) งานแนะแนว | C32: กิจกรรม | K32: =$D32*E32 -> 0 | L32: =$D32*F32 -> 0 | M32: =$D32*G32 -> 0 | N32: =$D32*H32 -> 0 | O32: =$D32*I32 -> 0
B33: 6) งานพัฒนาสื่อ,หลักสูตร | C33: หลักสูตร/ชิ้น | K33: =$D33*E33 -> 0 | L33: =$D33*F33 -> 0 | M33: =$D33*G33 -> 0 | N33: =$D33*H33 -> 0 | O33: =$D33*I33 -> 0
B34: 2. กลุ่มงานเรียนรู้เพื่อพัฒนาตนเอง | K34: =$D34*E34 -> 0 | L34: =$D34*F34 -> 0 | M34: =$D34*G34 -> 0 | N34: =$D34*H34 -> 0 | O34: =$D34*I34 -> 0
B35: 1) โครงการศูนย์ฝึกอาชีพชุมชน | C35: ครั้ง | K35: =$D35*E35 -> 0 | L35: =$D35*F35 -> 0 | M35: =$D35*G35 -> 0 | N35: =$D35*H35 -> 0 | O35: =$D35*I35 -> 0
B36: 2) การศึกษาเพื่อพัฒนาทักษะชีวิต | C36: ครั้ง | K36: =$D36*E36 -> 0 | L36: =$D36*F36 -> 0 | M36: =$D36*G36 -> 0 | N36: =$D36*H36 -> 0 | O36: =$D36*I36 -> 0
B37: 3) การศึกษาเพื่อพัฒนาสังคม ชุมชน | C37: ครั้ง | K37: =$D37*E37 -> 0 | L37: =$D37*F37 -> 0 | M37: =$D37*G37 -> 0 | N37: =$D37*H37 -> 0 | O37: =$D37*I37 -> 0
B38: 4) การเรียนรู้ตามหลักปรัชญาของเศรษฐกิจพอเพียง | C38: ครั้ง | K38: =$D38*E38 -> 0 | L38: =$D38*F38 -> 0 | M38: =$D38*G38 -> 0 | N38: =$D38*H38 -> 0 | O38: =$D38*I38 -> 0
B39: 5) โครงการภาษาอังกฤษเพื่อการสื่อสารด้านอาชีพ | C39: ครั้ง | K39: =$D39*E39 -> 0 | L39: =$D39*F39 -> 0 | M39: =$D39*G39 -> 0 | N39: =$D39*H39 -> 0 | O39: =$D39*I39 -> 0
B40: 6) โครงการพัฒนาเครือข่ายเศรษฐกิจดิจิทัลสู่ชุมชนในระดับตำบล | C40: ครั้ง | K40: =$D40*E40 -> 0 | L40: =$D40*F40 -> 0 | M40: =$D40*G40 -> 0 | N40: =$D40*H40 -> 0 | O40: =$D40*I40 -> 0
B41: 3. งานเรียนรู้ตลอดชีวิต | K41: =$D41*E41 -> 0 | L41: =$D41*F41 -> 0 | M41: =$D41*G41 -> 0 | N41: =$D41*H41 -> 0 | O41: =$D41*I41 -> 0
B42: 1) งานห้องสมุด | C42: วัน | K42: =$D42*E42 -> 0 | L42: =$D42*F42 -> 0 | M42: =$D42*G42 -> 0 | N42: =$D42*H42 -> 0 | O42: =$D42*I42 -> 0
...

Sheet สรุปอัตรากำลังข้าราชการครู
A1: ="ตารางสรุปอัตรากำลังข้าราชการครูในสถานศึกษา"&+ข้อมูลทั่วไป!C5 -> ตารางสรุปอัตรากำลังข้าราชการครูในสถานศึกษา
A4: ลำดับที่ | B4: ประเภทการจัดการศึกษา | C4: ปีงบประมาณ 2566 | F4: ปีงบประมาณ 2567 | I4: ปีงบประมาณ 2568
C5: อัตรากำลังครู (คน) | D5: อัตรากำลัง38 ค.(2) (คน) | E5: รวม (คน) | F5: อัตรากำลังครู (คน) | G5: อัตรากำลัง38 ค.(2) (คน) | H5: รวม (คน) | I5: อัตรากำลังครู (คน) | J5: อัตรากำลัง38 ค.(2) (คน) | K5: รวม (คน)
A6: 1 | B6: การจัดการเรียนรู้เพื่อคุณวุฒิตามระดับ | C6: =ROUND(คุณวุฒิ!E15,0) -> 0 | E6: =SUM(C6:D6) -> 0 | F6: =ROUND(คุณวุฒิ!H15,0) -> 0 | H6: =SUM(F6:G6) -> 0 | I6: =ROUND(คุณวุฒิ!K15,0) -> 0 | K6: =SUM(I6:J6) -> 0
A7: 2 | B7: การจัดการเรียนรู้เพื่อการพัฒนาตนเอง | C7: =ROUND(เพื่อพัฒนาตนเอง!E40,0) -> 0 | E7: =SUM(C7:D7) -> 0 | F7: =ROUND(เพื่อพัฒนาตนเอง!H40,0) -> 0 | H7: =SUM(F7:G7) -> 0 | I7: =ROUND(เพื่อพัฒนาตนเอง!K40,0) -> 0 | K7: =SUM(I7:J7) -> 0
A8: 3 | B8: การจัดการเรียนรู้ตลอดชีวิต | C8: =ROUND(ตลอดชีวิต!E40,0) -> 0 | E8: =SUM(C8:D8) -> 0 | F8: =ROUND(ตลอดชีวิต!H40,0) -> 0 | H8: =SUM(F8:G8) -> 0 | I8: =ROUND(ตลอดชีวิต!K40,0) -> 0 | K8: =SUM(I8:J8) -> 0
A9: 4 | B9: งานสนับสนุน | D9: =ROUND(งานสนับสนุน!J71,0) -> 0 | E9: =SUM(C9:D9) -> 0 | G9: =ROUND(งานสนับสนุน!J71,0) -> 0 | H9: =SUM(F9:G9) -> 0 | J9: =ROUND(งานสนับสนุน!J71,0) -> 0 | K9: =SUM(I9:J9) -> 0
A10: =ข้อมูลทั่วไป!C8 -> 0 | B10: =ข้อมูลทั่วไป!C5 -> 0 | C10: =ROUND(SUM(C6:C8),0) -> 0 | D10: =SUM(D6:D9) -> 0 | E10: =SUM(E6:E9) -> 0 | F10: =ROUND(SUM(F6:F8),0) -> 0 | G10: =SUM(G6:G9) -> 0 | H10: =SUM(H6:H9) -> 0 | I10: =ROUND(SUM(I6:I8),0) -> 0 | J10: =SUM(J6:J9) -> 0 | K10: =SUM(K6:K9) -> 0
